BEGIN:VCALENDAR
VERSION:2.0
PRODID:-//hacksw/handcal//NONSGML v1.0//EN
BEGIN:VEVENT
SUMMARY:CDC veteran equipe 3 4eme division Poule D
UID:949763ab-f1eb-4d04-bcae-3b27398f998e
DTSTART:20260512T063000Z
DTEND:20260512T160000Z
LOCATION:Localisation Rue des Grandes Caves 86200 Loudun
CATEGORIES:Sportif
STATUS:
DESCRIPTION:<p>Contre Saint-Martin le matin, Montamise
 l'apres-midi</p>
URL;VALUE=URI:https://www.esbuxerollespetanque.com/evenements/2026/05/12/cdc-veteran-equipe-3-4eme-division-poule-d-2434358
END:VEVENT
END:VCALENDAR
