BEGIN:VCALENDAR
VERSION:2.0
PRODID:-//hacksw/handcal//NONSGML v1.0//EN
BEGIN:VEVENT
SUMMARY:CDC Veteran equipe 1 3eme division Poule D
UID:12c27b9e-b339-46d9-9b9b-a77dfefdbbb1
DTSTART:20260512T063000Z
DTEND:20260512T160000Z
LOCATION:Localisation Route de Frefoir 86530 Cenon sur vienne
CATEGORIES:Sportif
STATUS:
DESCRIPTION:<p>Contrte Cenon le matin et Jaunay Clan l'apres-midi</p>
URL;VALUE=URI:https://www.esbuxerollespetanque.com/evenements/2026/05/12/cdc-veteran-equipe-1-3eme-division-poule-d-2419221
END:VEVENT
END:VCALENDAR
